BEGIN:VCALENDAR
VERSION:2.0
PRODID:-//Frisco Native American Museum - ECPv6.15.20//NONSGML v1.0//EN
CALSCALE:GREGORIAN
METHOD:PUBLISH
X-WR-CALNAME:Frisco Native American Museum
X-ORIGINAL-URL:https://nativeamericanmuseum.org
X-WR-CALDESC:Events for Frisco Native American Museum
REFRESH-INTERVAL;VALUE=DURATION:PT1H
X-Robots-Tag:noindex
X-PUBLISHED-TTL:PT1H
BEGIN:VTIMEZONE
TZID:America/New_York
BEGIN:DAYLIGHT
TZOFFSETFROM:-0500
TZOFFSETTO:-0400
TZNAME:EDT
DTSTART:20250309T070000
END:DAYLIGHT
BEGIN:STANDARD
TZOFFSETFROM:-0400
TZOFFSETTO:-0500
TZNAME:EST
DTSTART:20251102T060000
END:STANDARD
BEGIN:DAYLIGHT
TZOFFSETFROM:-0500
TZOFFSETTO:-0400
TZNAME:EDT
DTSTART:20260308T070000
END:DAYLIGHT
BEGIN:STANDARD
TZOFFSETFROM:-0400
TZOFFSETTO:-0500
TZNAME:EST
DTSTART:20261101T060000
END:STANDARD
BEGIN:DAYLIGHT
TZOFFSETFROM:-0500
TZOFFSETTO:-0400
TZNAME:EDT
DTSTART:20270314T070000
END:DAYLIGHT
BEGIN:STANDARD
TZOFFSETFROM:-0400
TZOFFSETTO:-0500
TZNAME:EST
DTSTART:20271107T060000
END:STANDARD
END:VTIMEZONE
BEGIN:VEVENT
DTSTART;TZID=America/New_York:20260425T100000
DTEND;TZID=America/New_York:20260425T130000
DTSTAMP:20260425T075842
CREATED:20260316T181052Z
LAST-MODIFIED:20260417T135357Z
UID:9015-1777111200-1777122000@nativeamericanmuseum.org
SUMMARY:Earth Day Celebration in Rodanthe
DESCRIPTION:Join Amber as she talks about snakes\, spiders\, and insects! She’s got an updated “Find the Brown Recluse” board and will be giving away stickers! \nThe Rodanthe-Waves-Salvo Civic Association will host its fourth annual Earth Day Celebration on Saturday\,\nApril 25\, from 10 a.m. to 1 p.m. at the Rodanthe-Waves-Salvo Community Building on NC Highway 12. The\nevent is free and will take place rain or shine. \nA community plant swap will give folks a chance to trade plants\, trees\, vegetables\, and seeds — or simply pick\nup something new. Free native plants\, courtesy of Wetland Plants Inc. of Edenton and sponsored by Midgett\nRealty\, will include cardinal flowers\, blackeyed Susans\, and several varieties of mallow/hibiscus. Families can\nenjoy planting stations and craft tables\, and local musician Martin Somers will provide live music throughout\nthe morning. \nThis year’s event also features a pop-up library hosted by the Hatteras branch of the Dare County Library\,\noffering books and information for readers of all ages. \nSeveral local groups will be on hand with demonstrations and information\, including:\nCape Hatteras Electric Cooperative\nSurfrider Foundation\nDare County Master Gardeners\nNorth Carolina Coastal Federation\nFrisco Native American Museum\nPeace Garden Project / Outer Banks Environmental Film Festival\nLocal beekeepers and birdwatchers\nRaffles will help support the civic association’s projects and events. Along with themed baskets\, the raffle will\ninclude plants such as live oak and fig trees. \nLocal businesses are contributing through sponsorships and donations. Current supporters include:\nMidgett Realty\nBrindley Beach Realty\nConners Supermarket\nHatteras Island Pet Resort\nIsland Garden Center\nHome Depot (Kitty Hawk)\nChicamacomico Banks Fire and Water Rescue will serve grilled food\, with proceeds benefiting the department.\nEveryone across the Outer Banks community are welcome to drop by\, pick up and swap plants\, enjoy family-\nfriendly activities and celebrate Earth Day together.\nMore information and updates — including additional business supporters — can be found on the RWS Civic\nAssociation Facebook page and their website at www.rwscivicassociation.org. \n\n\nReminder that this will not be at the museum\, this will be at the Rodanthe-Waves-Salvo Community Building in Rodanthe.\n\nLike this:Like Loading...
URL:https://nativeamericanmuseum.org/event/earth-day-celebration-in-rodanthe-2/
LOCATION:Rodanthe Civic Center\, 23646 NC Hwy 12\, Rodanthe\, NC\, 27968\, United States
ATTACH;FMTTYPE=image/jpeg:https://nativeamericanmuseum.org/wp-content/uploads/2026/03/EarthDay2-2026-01.jpg
ORGANIZER;CN="RWS Civic Association":MAILTO:﻿RWSCivicAssociation@gmail.com
END:VEVENT
END:VCALENDAR