BEGIN:VCALENDAR
VERSION:2.0
PRODID:-//Frisco Native American Museum - ECPv6.15.20//NONSGML v1.0//EN
CALSCALE:GREGORIAN
METHOD:PUBLISH
X-WR-CALNAME:Frisco Native American Museum
X-ORIGINAL-URL:https://nativeamericanmuseum.org
X-WR-CALDESC:Events for Frisco Native American Museum
REFRESH-INTERVAL;VALUE=DURATION:PT1H
X-Robots-Tag:noindex
X-PUBLISHED-TTL:PT1H
BEGIN:VTIMEZONE
TZID:America/New_York
BEGIN:DAYLIGHT
TZOFFSETFROM:-0500
TZOFFSETTO:-0400
TZNAME:EDT
DTSTART:20230312T070000
END:DAYLIGHT
BEGIN:STANDARD
TZOFFSETFROM:-0400
TZOFFSETTO:-0500
TZNAME:EST
DTSTART:20231105T060000
END:STANDARD
BEGIN:DAYLIGHT
TZOFFSETFROM:-0500
TZOFFSETTO:-0400
TZNAME:EDT
DTSTART:20240310T070000
END:DAYLIGHT
BEGIN:STANDARD
TZOFFSETFROM:-0400
TZOFFSETTO:-0500
TZNAME:EST
DTSTART:20241103T060000
END:STANDARD
BEGIN:DAYLIGHT
TZOFFSETFROM:-0500
TZOFFSETTO:-0400
TZNAME:EDT
DTSTART:20250309T070000
END:DAYLIGHT
BEGIN:STANDARD
TZOFFSETFROM:-0400
TZOFFSETTO:-0500
TZNAME:EST
DTSTART:20251102T060000
END:STANDARD
END:VTIMEZONE
BEGIN:VEVENT
DTSTART;TZID=America/New_York:20240919T130000
DTEND;TZID=America/New_York:20240919T170000
DTSTAMP:20260424T115400
CREATED:20240904T203306Z
LAST-MODIFIED:20240905T163036Z
UID:7171-1726750800-1726765200@nativeamericanmuseum.org
SUMMARY:Trial Event
DESCRIPTION:This is a trial event to see how listings will function in the new plugin! We appreciate your patience as we do our best to work on a way to stream our events to make everything easier for YOU! We appreciate your patience as we go through and learn a new event listing!\n\n\n\n\n\n\n\nShare this:\n				Share on Facebook (Opens in new window)\n				Facebook\n			\n				Share on X (Opens in new window)\n				X\n			\n				Share on Tumblr (Opens in new window)\n				Tumblr\n			\n				Share on Reddit (Opens in new window)\n				Reddit\n			More\n				Email a link to a friend (Opens in new window)\n				Email\n			\n				Print (Opens in new window)\n				Print\n			Like this:Like Loading...
URL:https://nativeamericanmuseum.org/event/trial-event/
LOCATION:Frisco Native American Museum\, 53536 Nc Hwy 12\, Frisco\, NC\, 27936\, United States
CATEGORIES:Guest Speakers,Museum Day Events
ATTACH;FMTTYPE=image/jpeg:https://nativeamericanmuseum.org/wp-content/uploads/2024/09/Cranford02.jpg
END:VEVENT
END:VCALENDAR