BEGIN:VCALENDAR
VERSION:2.0
PRODID:-//Frisco Native American Museum - ECPv6.15.20//NONSGML v1.0//EN
CALSCALE:GREGORIAN
METHOD:PUBLISH
X-ORIGINAL-URL:https://nativeamericanmuseum.org
X-WR-CALDESC:Events for Frisco Native American Museum
REFRESH-INTERVAL;VALUE=DURATION:PT1H
X-Robots-Tag:noindex
X-PUBLISHED-TTL:PT1H
BEGIN:VTIMEZONE
TZID:America/New_York
BEGIN:DAYLIGHT
TZOFFSETFROM:-0500
TZOFFSETTO:-0400
TZNAME:EDT
DTSTART:20240310T070000
END:DAYLIGHT
BEGIN:STANDARD
TZOFFSETFROM:-0400
TZOFFSETTO:-0500
TZNAME:EST
DTSTART:20241103T060000
END:STANDARD
BEGIN:DAYLIGHT
TZOFFSETFROM:-0500
TZOFFSETTO:-0400
TZNAME:EDT
DTSTART:20250309T070000
END:DAYLIGHT
BEGIN:STANDARD
TZOFFSETFROM:-0400
TZOFFSETTO:-0500
TZNAME:EST
DTSTART:20251102T060000
END:STANDARD
BEGIN:DAYLIGHT
TZOFFSETFROM:-0500
TZOFFSETTO:-0400
TZNAME:EDT
DTSTART:20260308T070000
END:DAYLIGHT
BEGIN:STANDARD
TZOFFSETFROM:-0400
TZOFFSETTO:-0500
TZNAME:EST
DTSTART:20261101T060000
END:STANDARD
END:VTIMEZONE
BEGIN:VEVENT
DTSTART;TZID=America/New_York:20250708T110000
DTEND;TZID=America/New_York:20250708T140000
DTSTAMP:20260423T202427
CREATED:20250422T183726Z
LAST-MODIFIED:20250422T194000Z
UID:8394-1751972400-1751983200@nativeamericanmuseum.org
SUMMARY:Abenaki Story Telling & Music with Elder Francine Jones
DESCRIPTION:Abenaki Elder Francine Jones will be sharing some traditional teaching stories and music. Elder Francine is a storyteller\, musician\, and advocate for maintaining and protecting their language and culture. She is working with Vermont state to create a curriculum covering the history of the Abenaki in Vermont. This will be available for students from public to home schools. She is member of the Vermont Abenaki Artists Association and on the Board for the Abenaki Arts & Education Center. \nThey are an Algonquian-speaking Indigenous people\, part of the Wabanaki Confederacy\, traditionally inhabiting the Northeastern Woodlands of the United States and Canada with significant populations in Vermont\, New Hampshire\, Maine\, and Quebec. Abenaki means “people of the dawn”. \nWe will be holding this event at 11AM and again at 2PM on both July 8th and 9th so double check when filling out your RSVP! \nShare this:\n				Share on Facebook (Opens in new window)\n				Facebook\n			\n				Share on X (Opens in new window)\n				X\n			\n				Share on Tumblr (Opens in new window)\n				Tumblr\n			\n				Share on Reddit (Opens in new window)\n				Reddit\n			More\n				Email a link to a friend (Opens in new window)\n				Email\n			\n				Print (Opens in new window)\n				Print\n			Like this:Like Loading...
URL:https://nativeamericanmuseum.org/event/abenaki-story-telling-music-with-elder-francine-jones/
LOCATION:Frisco Native American Museum\, 53536 Nc Hwy 12\, Frisco\, NC\, 27936\, United States
CATEGORIES:Guest Speakers,Museum Day Events
ATTACH;FMTTYPE=image/jpeg:https://nativeamericanmuseum.org/wp-content/uploads/2025/04/Francine.jpg
END:VEVENT
BEGIN:VEVENT
DTSTART;TZID=America/New_York:20250709T110000
DTEND;TZID=America/New_York:20250709T140000
DTSTAMP:20260423T202427
CREATED:20250422T194325Z
LAST-MODIFIED:20250422T194325Z
UID:8403-1752058800-1752069600@nativeamericanmuseum.org
SUMMARY:Abenaki Story Telling & Music with Elder Francine Jones
DESCRIPTION:Abenaki Elder Francine Jones will be sharing some traditional teaching stories and music. Elder Francine is a storyteller\, musician\, and advocate for maintaining and protecting their language and culture. She is working with Vermont state to create a curriculum covering the history of the Abenaki in Vermont. This will be available for students from public to home schools. She is member of the Vermont Abenaki Artists Association and on the Board for the Abenaki Arts & Education Center. \nThey are an Algonquian-speaking Indigenous people\, part of the Wabanaki Confederacy\, traditionally inhabiting the Northeastern Woodlands of the United States and Canada with significant populations in Vermont\, New Hampshire\, Maine\, and Quebec. Abenaki means “people of the dawn”. \nWe will be holding this event at 11AM and again at 2PM on both July 8th and 9th so double check when filling out your RSVP! \nShare this:\n				Share on Facebook (Opens in new window)\n				Facebook\n			\n				Share on X (Opens in new window)\n				X\n			\n				Share on Tumblr (Opens in new window)\n				Tumblr\n			\n				Share on Reddit (Opens in new window)\n				Reddit\n			More\n				Email a link to a friend (Opens in new window)\n				Email\n			\n				Print (Opens in new window)\n				Print\n			Like this:Like Loading...
URL:https://nativeamericanmuseum.org/event/abenaki-story-telling-music-with-elder-francine-jones-2/
LOCATION:Frisco Native American Museum\, 53536 Nc Hwy 12\, Frisco\, NC\, 27936\, United States
CATEGORIES:Guest Speakers,Museum Day Events
ATTACH;FMTTYPE=image/jpeg:https://nativeamericanmuseum.org/wp-content/uploads/2025/04/Francine.jpg
END:VEVENT
BEGIN:VEVENT
DTSTART;TZID=America/New_York:20250715T110000
DTEND;TZID=America/New_York:20250715T120000
DTSTAMP:20260423T202427
CREATED:20250419T164131Z
LAST-MODIFIED:20250419T164131Z
UID:8343-1752577200-1752580800@nativeamericanmuseum.org
SUMMARY:Supporting Pollinators & Pollinator Gardens Made EASY!
DESCRIPTION:Join Elaine Hooper and Amber Roth as they share their love of the insect world and share easy ways that we can support our native pollinators. From endangered bees to beautiful moths and everything in between. \nWhat insect is the best pollinator? \nHow good are bug houses? \nWhat should you plant? \nThey will be going over all of that and MORE! \nEvent is free with museum admission. Looking for another date? We will be hosting this event twice each month in 2025! \nYou can find both women educating the public on social media about local insects on social media such as OBX Official Snake\, spider\, fish\, turtle ETC identifier and Carolinas Wildlife Identification and Appreciation Forum or in more global groups such as the popular Antman’s Hill ®. They make learning about the world of insects fun for all ages! \nShare this:\n				Share on Facebook (Opens in new window)\n				Facebook\n			\n				Share on X (Opens in new window)\n				X\n			\n				Share on Tumblr (Opens in new window)\n				Tumblr\n			\n				Share on Reddit (Opens in new window)\n				Reddit\n			More\n				Email a link to a friend (Opens in new window)\n				Email\n			\n				Print (Opens in new window)\n				Print\n			Like this:Like Loading...
URL:https://nativeamericanmuseum.org/event/supporting-pollinators-pollinator-gardens-made-easy-2-2/
LOCATION:Frisco Native American Museum\, 53536 Nc Hwy 12\, Frisco\, NC\, 27936\, United States
CATEGORIES:Guest Speakers,Museum Day Events
ATTACH;FMTTYPE=image/jpeg:https://nativeamericanmuseum.org/wp-content/uploads/2025/04/Pollinators-01.jpg
END:VEVENT
BEGIN:VEVENT
DTSTART;TZID=America/New_York:20250715T140000
DTEND;TZID=America/New_York:20250715T150000
DTSTAMP:20260423T202427
CREATED:20250419T164225Z
LAST-MODIFIED:20250419T164225Z
UID:8346-1752588000-1752591600@nativeamericanmuseum.org
SUMMARY:Let's Learn About Spiders!
DESCRIPTION:Join two passionate women\, Elaine Hooper and Amber Roth\, as they share their love for some of the most maligned species….SPIDERS! Elaine has always had a passion for our 8-legged friends while Amber has worked to move beyond her phobia to learn appreciation. This dynamic duo will go over a ton of topics from anatomy to behavior. \nDo we have dangerous spiders on Hatteras Island? \nHow do spiders see the world? \nEven get a chance to meet some spiders up close and personal! \nYou’ll not want to miss this opportunity to bust some of the most common myths about spiders here at the museum. Event is free with museum admission. Looking for another date? We will be hosting this event twice each month in 2025! \nYou can find both women educating the public on social media about local insects on social media such as OBX Official Snake\, spider\, fish\, turtle ETC identifier and Carolinas Wildlife Identification and Appreciation Forum or in more global groups such as the popular Antman’s Hill ®. They make learning about the world of insects fun for all ages! \n  \nShare this:\n				Share on Facebook (Opens in new window)\n				Facebook\n			\n				Share on X (Opens in new window)\n				X\n			\n				Share on Tumblr (Opens in new window)\n				Tumblr\n			\n				Share on Reddit (Opens in new window)\n				Reddit\n			More\n				Email a link to a friend (Opens in new window)\n				Email\n			\n				Print (Opens in new window)\n				Print\n			Like this:Like Loading...
URL:https://nativeamericanmuseum.org/event/lets-learn-about-spiders-2-2/
LOCATION:Frisco Native American Museum\, 53536 Nc Hwy 12\, Frisco\, NC\, 27936\, United States
CATEGORIES:Guest Speakers,Museum Day Events
ATTACH;FMTTYPE=image/jpeg:https://nativeamericanmuseum.org/wp-content/uploads/2025/04/Spiders.jpg
END:VEVENT
BEGIN:VEVENT
DTSTART;TZID=America/New_York:20250722T110000
DTEND;TZID=America/New_York:20250722T120000
DTSTAMP:20260423T202427
CREATED:20250419T164321Z
LAST-MODIFIED:20250419T164321Z
UID:8349-1753182000-1753185600@nativeamericanmuseum.org
SUMMARY:Supporting Pollinators & Pollinator Gardens Made EASY!
DESCRIPTION:Join Elaine Hooper and Amber Roth as they share their love of the insect world and share easy ways that we can support our native pollinators. From endangered bees to beautiful moths and everything in between. \nWhat insect is the best pollinator? \nHow good are bug houses? \nWhat should you plant? \nThey will be going over all of that and MORE! \nEvent is free with museum admission. Looking for another date? We will be hosting this event twice each month in 2025! \nYou can find both women educating the public on social media about local insects on social media such as OBX Official Snake\, spider\, fish\, turtle ETC identifier and Carolinas Wildlife Identification and Appreciation Forum or in more global groups such as the popular Antman’s Hill ®. They make learning about the world of insects fun for all ages! \nShare this:\n				Share on Facebook (Opens in new window)\n				Facebook\n			\n				Share on X (Opens in new window)\n				X\n			\n				Share on Tumblr (Opens in new window)\n				Tumblr\n			\n				Share on Reddit (Opens in new window)\n				Reddit\n			More\n				Email a link to a friend (Opens in new window)\n				Email\n			\n				Print (Opens in new window)\n				Print\n			Like this:Like Loading...
URL:https://nativeamericanmuseum.org/event/supporting-pollinators-pollinator-gardens-made-easy-2-2-2/
LOCATION:Frisco Native American Museum\, 53536 Nc Hwy 12\, Frisco\, NC\, 27936\, United States
CATEGORIES:Guest Speakers,Museum Day Events
ATTACH;FMTTYPE=image/jpeg:https://nativeamericanmuseum.org/wp-content/uploads/2025/04/Pollinators-01.jpg
END:VEVENT
BEGIN:VEVENT
DTSTART;TZID=America/New_York:20250722T140000
DTEND;TZID=America/New_York:20250722T150000
DTSTAMP:20260423T202427
CREATED:20250419T164414Z
LAST-MODIFIED:20250419T164414Z
UID:8352-1753192800-1753196400@nativeamericanmuseum.org
SUMMARY:Let's Learn About Spiders!
DESCRIPTION:Join two passionate women\, Elaine Hooper and Amber Roth\, as they share their love for some of the most maligned species….SPIDERS! Elaine has always had a passion for our 8-legged friends while Amber has worked to move beyond her phobia to learn appreciation. This dynamic duo will go over a ton of topics from anatomy to behavior. \nDo we have dangerous spiders on Hatteras Island? \nHow do spiders see the world? \nEven get a chance to meet some spiders up close and personal! \nYou’ll not want to miss this opportunity to bust some of the most common myths about spiders here at the museum. Event is free with museum admission. Looking for another date? We will be hosting this event twice each month in 2025! \nYou can find both women educating the public on social media about local insects on social media such as OBX Official Snake\, spider\, fish\, turtle ETC identifier and Carolinas Wildlife Identification and Appreciation Forum or in more global groups such as the popular Antman’s Hill ®. They make learning about the world of insects fun for all ages! \n  \nShare this:\n				Share on Facebook (Opens in new window)\n				Facebook\n			\n				Share on X (Opens in new window)\n				X\n			\n				Share on Tumblr (Opens in new window)\n				Tumblr\n			\n				Share on Reddit (Opens in new window)\n				Reddit\n			More\n				Email a link to a friend (Opens in new window)\n				Email\n			\n				Print (Opens in new window)\n				Print\n			Like this:Like Loading...
URL:https://nativeamericanmuseum.org/event/lets-learn-about-spiders-2-2-2/
LOCATION:Frisco Native American Museum\, 53536 Nc Hwy 12\, Frisco\, NC\, 27936\, United States
CATEGORIES:Guest Speakers,Museum Day Events
ATTACH;FMTTYPE=image/jpeg:https://nativeamericanmuseum.org/wp-content/uploads/2025/04/Spiders.jpg
END:VEVENT
BEGIN:VEVENT
DTSTART;TZID=America/New_York:20250723T110000
DTEND;TZID=America/New_York:20250723T140000
DTSTAMP:20260423T202427
CREATED:20250422T164813Z
LAST-MODIFIED:20250429T150252Z
UID:8377-1753268400-1753279200@nativeamericanmuseum.org
SUMMARY:Story Telling & Music with Aio Blue Heron Sifu
DESCRIPTION:Indigenous tribes are a diverse group of people with many languages and varied traditions. Historically\, most of the stories about us have been told by those outside our communities. The importance of storytelling and art in Native American communities cannot be overstated. For our people it is a method of community care and healing. It is also a powerful way to reclaim our voices\, histories and empower our communities. \nMuscogee Storyteller and Musician Aio Blue Heron Sifu will be sharing her original music and stories\, both old and new. Her works speak of the power of connecting to the natural world and honoring our histories. The relationships Native Americans have with animals\, plants\, and the world. Native storytelling has always sought to teach and entertain and she carries on this tradition with grace. \nWe encourage the use of storytelling in our museum through invited presenters\, videos of Native stories from the community itself\, or through books by Native authors. \nWe will be featuring this event for two days at both 11AM and 2PM so please double check your date before RSVP-ing! \nEvent created in part with help from the Dare Arts Council \nShare this:\n				Share on Facebook (Opens in new window)\n				Facebook\n			\n				Share on X (Opens in new window)\n				X\n			\n				Share on Tumblr (Opens in new window)\n				Tumblr\n			\n				Share on Reddit (Opens in new window)\n				Reddit\n			More\n				Email a link to a friend (Opens in new window)\n				Email\n			\n				Print (Opens in new window)\n				Print\n			Like this:Like Loading...
URL:https://nativeamericanmuseum.org/event/story-telling-music-with-aio-blue-heron-sifu/
LOCATION:Frisco Native American Museum\, 53536 Nc Hwy 12\, Frisco\, NC\, 27936\, United States
CATEGORIES:Guest Speakers,Museum Day Events
ATTACH;FMTTYPE=image/jpeg:https://nativeamericanmuseum.org/wp-content/uploads/2025/04/Aio-credit.jpg
END:VEVENT
BEGIN:VEVENT
DTSTART;TZID=America/New_York:20250724T110000
DTEND;TZID=America/New_York:20250724T140000
DTSTAMP:20260423T202427
CREATED:20250422T172408Z
LAST-MODIFIED:20250429T150345Z
UID:8386-1753354800-1753365600@nativeamericanmuseum.org
SUMMARY:Story Telling & Music with Aio Blue Heron Sifu
DESCRIPTION:Indigenous tribes are a diverse group of people with many languages and varied traditions. Historically\, most of the stories about us have been told by those outside our communities. The importance of storytelling and art in Native American communities cannot be overstated. For our people it is a method of community care and healing. It is also a powerful way to reclaim our voices\, histories and empower our communities. \nMuscogee Storyteller and Musician Aio Blue Heron Sifu will be sharing her original music and stories\, both old and new. Her works speak of the power of connecting to the natural world and honoring our histories. The relationships Native Americans have with animals\, plants\, and the world. Native storytelling has always sought to teach and entertain and she carries on this tradition with grace. \nWe encourage the use of storytelling in our museum through invited presenters\, videos of Native stories from the community itself\, or through books by Native authors. \nWe will be featuring this event for two days at both 11AM and 2PM so please double check your date before RSVP-ing! \nThis event is created in part with help from the Dare Arts Council \nShare this:\n				Share on Facebook (Opens in new window)\n				Facebook\n			\n				Share on X (Opens in new window)\n				X\n			\n				Share on Tumblr (Opens in new window)\n				Tumblr\n			\n				Share on Reddit (Opens in new window)\n				Reddit\n			More\n				Email a link to a friend (Opens in new window)\n				Email\n			\n				Print (Opens in new window)\n				Print\n			Like this:Like Loading...
URL:https://nativeamericanmuseum.org/event/story-telling-music-with-aio-blue-heron-sifu-2/
LOCATION:Frisco Native American Museum\, 53536 Nc Hwy 12\, Frisco\, NC\, 27936\, United States
CATEGORIES:Guest Speakers,Museum Day Events
ATTACH;FMTTYPE=image/jpeg:https://nativeamericanmuseum.org/wp-content/uploads/2025/04/Aio-credit.jpg
END:VEVENT
BEGIN:VEVENT
DTSTART;TZID=America/New_York:20250731T110000
DTEND;TZID=America/New_York:20250731T140000
DTSTAMP:20260423T202427
CREATED:20250611T171206Z
LAST-MODIFIED:20250701T171035Z
UID:8461-1753959600-1753970400@nativeamericanmuseum.org
SUMMARY:Who was Chief Wingina of the Hatterask?
DESCRIPTION:Hundreds of years before famous Chiefs like Geronimo\, Crazy Horse and Tecumseh\, there was an extraordinary chief that has been erased from history. Join Gray Michael Parsons and learn about a man who worked to protect his people\, Chief Wingina of the Hatterask/Roanoke people. \nEvent is free with museum admission. We will be hosting this event three times in 2025! \nShare this:\n				Share on Facebook (Opens in new window)\n				Facebook\n			\n				Share on X (Opens in new window)\n				X\n			\n				Share on Tumblr (Opens in new window)\n				Tumblr\n			\n				Share on Reddit (Opens in new window)\n				Reddit\n			More\n				Email a link to a friend (Opens in new window)\n				Email\n			\n				Print (Opens in new window)\n				Print\n			Like this:Like Loading...
URL:https://nativeamericanmuseum.org/event/who-was-chief-wingina-of-the-hatterask-2/
LOCATION:Frisco Native American Museum\, 53536 Nc Hwy 12\, Frisco\, NC\, 27936\, United States
CATEGORIES:Guest Speakers,Museum Day Events
ATTACH;FMTTYPE=image/jpeg:https://nativeamericanmuseum.org/wp-content/uploads/2025/06/Wingina.jpg
END:VEVENT
END:VCALENDAR