BEGIN:VCALENDAR
VERSION:2.0
PRODID:-//Frisco Native American Museum - ECPv6.15.20//NONSGML v1.0//EN
CALSCALE:GREGORIAN
METHOD:PUBLISH
X-WR-CALNAME:Frisco Native American Museum
X-ORIGINAL-URL:https://nativeamericanmuseum.org
X-WR-CALDESC:Events for Frisco Native American Museum
REFRESH-INTERVAL;VALUE=DURATION:PT1H
X-Robots-Tag:noindex
X-PUBLISHED-TTL:PT1H
BEGIN:VTIMEZONE
TZID:America/New_York
BEGIN:DAYLIGHT
TZOFFSETFROM:-0500
TZOFFSETTO:-0400
TZNAME:EDT
DTSTART:20250309T070000
END:DAYLIGHT
BEGIN:STANDARD
TZOFFSETFROM:-0400
TZOFFSETTO:-0500
TZNAME:EST
DTSTART:20251102T060000
END:STANDARD
BEGIN:DAYLIGHT
TZOFFSETFROM:-0500
TZOFFSETTO:-0400
TZNAME:EDT
DTSTART:20260308T070000
END:DAYLIGHT
BEGIN:STANDARD
TZOFFSETFROM:-0400
TZOFFSETTO:-0500
TZNAME:EST
DTSTART:20261101T060000
END:STANDARD
BEGIN:DAYLIGHT
TZOFFSETFROM:-0500
TZOFFSETTO:-0400
TZNAME:EDT
DTSTART:20270314T070000
END:DAYLIGHT
BEGIN:STANDARD
TZOFFSETFROM:-0400
TZOFFSETTO:-0500
TZNAME:EST
DTSTART:20271107T060000
END:STANDARD
END:VTIMEZONE
BEGIN:VEVENT
DTSTART;TZID=America/New_York:20260923T140000
DTEND;TZID=America/New_York:20260923T150000
DTSTAMP:20260423T150529
CREATED:20260109T203219Z
LAST-MODIFIED:20260116T212946Z
UID:8756-1790172000-1790175600@nativeamericanmuseum.org
SUMMARY:Abenaki Story Telling & Music
DESCRIPTION:Celebrate the 40th Anniversary of the Frisco Native American Museum by…..\njoining Abenaki Elder Francine Jones* for the second year in a row! A gifted storyteller and musician\, Francine will be sharing with everyone traditional teaching stories and music that promises to be a treat for all ages. \nFor example\, did you know there’s a song to ward off mosquitoes? Get a chance to learn it and sing along! \nDid you ever wonder why dogs are so loyal and called “Man’s best friend” ? Hear the exciting story for yourself! \nChildren attending will get to participate in a Feather Dance! \nFrancine will also have a table of traditional items with adults to do a Q&A and children to explore. Hear about how the Abenaki people used certain furs or guess what use an unfamiliar item you see has. \nEvent is FREE with museum admission \n*Francine is an advocate for maintaining and protecting the Abenaki language and culture\, member of the Vermont Abenaki Artists Association\, and on the Board for the Abenaki Arts & Education Center. \nShare this:\n				Share on Facebook (Opens in new window)\n				Facebook\n			\n				Share on X (Opens in new window)\n				X\n			\n				Share on Tumblr (Opens in new window)\n				Tumblr\n			\n				Share on Reddit (Opens in new window)\n				Reddit\n			More\n				Email a link to a friend (Opens in new window)\n				Email\n			\n				Print (Opens in new window)\n				Print\n			Like this:Like Loading...
URL:https://nativeamericanmuseum.org/event/abenaki-story-telling-music/
LOCATION:Frisco Native American Museum\, 53536 Nc Hwy 12\, Frisco\, NC\, 27936\, United States
CATEGORIES:Guest Speakers
ATTACH;FMTTYPE=image/jpeg:https://nativeamericanmuseum.org/wp-content/uploads/2026/01/Francine-2026-01.jpg
END:VEVENT
END:VCALENDAR