BEGIN:VCALENDAR
VERSION:2.0
PRODID:-//Frisco Native American Museum - ECPv6.15.20//NONSGML v1.0//EN
CALSCALE:GREGORIAN
METHOD:PUBLISH
X-WR-CALNAME:Frisco Native American Museum
X-ORIGINAL-URL:https://nativeamericanmuseum.org
X-WR-CALDESC:Events for Frisco Native American Museum
REFRESH-INTERVAL;VALUE=DURATION:PT1H
X-Robots-Tag:noindex
X-PUBLISHED-TTL:PT1H
BEGIN:VTIMEZONE
TZID:America/New_York
BEGIN:DAYLIGHT
TZOFFSETFROM:-0500
TZOFFSETTO:-0400
TZNAME:EDT
DTSTART:20250309T070000
END:DAYLIGHT
BEGIN:STANDARD
TZOFFSETFROM:-0400
TZOFFSETTO:-0500
TZNAME:EST
DTSTART:20251102T060000
END:STANDARD
BEGIN:DAYLIGHT
TZOFFSETFROM:-0500
TZOFFSETTO:-0400
TZNAME:EDT
DTSTART:20260308T070000
END:DAYLIGHT
BEGIN:STANDARD
TZOFFSETFROM:-0400
TZOFFSETTO:-0500
TZNAME:EST
DTSTART:20261101T060000
END:STANDARD
BEGIN:DAYLIGHT
TZOFFSETFROM:-0500
TZOFFSETTO:-0400
TZNAME:EDT
DTSTART:20270314T070000
END:DAYLIGHT
BEGIN:STANDARD
TZOFFSETFROM:-0400
TZOFFSETTO:-0500
TZNAME:EST
DTSTART:20271107T060000
END:STANDARD
END:VTIMEZONE
BEGIN:VEVENT
DTSTART;TZID=America/New_York:20260506T140000
DTEND;TZID=America/New_York:20260506T150000
DTSTAMP:20260423T055335
CREATED:20260109T195929Z
LAST-MODIFIED:20260116T200336Z
UID:8744-1778076000-1778079600@nativeamericanmuseum.org
SUMMARY:Voices of History - Chief Wingina and More!
DESCRIPTION:Celebrate the 40th Anniversary of the Frisco Native American Museum by…..\njoining us to hear 2 time published author and creator of the non-profit Secotan Alliance\, Gray Michael Parsons. Gray started the Secotan Alliance to share the history of of a visionary chief that tried to unite natives long before Tecumseh. He will be telling the tales of Chief Wingina of the Hatterask/Roanoke people and why he was such an important figure that we must not lose to history. \nGray will also be sharing stories about growing up with his heritage and the depth of research it took to learn about his ancestors. \nHe will be available for signings of his books Hope on Hatterask as well as his new poetry collection Pampico Blue. \nEvent is FREE with museum admission \nShare this:\n				Share on Facebook (Opens in new window)\n				Facebook\n			\n				Share on X (Opens in new window)\n				X\n			\n				Share on Tumblr (Opens in new window)\n				Tumblr\n			\n				Share on Reddit (Opens in new window)\n				Reddit\n			More\n				Email a link to a friend (Opens in new window)\n				Email\n			\n				Print (Opens in new window)\n				Print\n			Like this:Like Loading...
URL:https://nativeamericanmuseum.org/event/voices-of-history-chief-wingina-and-more/
LOCATION:Frisco Native American Museum\, 53536 Nc Hwy 12\, Frisco\, NC\, 27936\, United States
CATEGORIES:Guest Speakers
ATTACH;FMTTYPE=image/jpeg:https://nativeamericanmuseum.org/wp-content/uploads/2026/01/Wingina2026.jpg
END:VEVENT
BEGIN:VEVENT
DTSTART;TZID=America/New_York:20260624T203000
DTEND;TZID=America/New_York:20260624T233000
DTSTAMP:20260423T055335
CREATED:20260116T212959Z
LAST-MODIFIED:20260116T213142Z
UID:8785-1782333000-1782343800@nativeamericanmuseum.org
SUMMARY:Moth Night at the Museum
DESCRIPTION:Celebrate the 40th Anniversary of the Frisco Native American Museum by…..\nJoining us on an evening Nature Trail night with Backyard Butterflies for a Moth Night! \nNaturalists\, Nature Lovers\, and Citizen Scientists: come join us for a memorable night of magic and mystery as we shine a light to attract moths to a collecting sheet! We’ll be getting up close and personal with these fluttering creatures. Together we’ll learn all about their crucial role in the ecosystem and the importance of native trees needed to sustain their life cycles. We’ll be mastering the art of moth identification and photography. Details to upload and share your photos to an iNaturalist project will be announced. \nAttendees will need to bring a flashlight or headlamp. Optional digital camera or macro lens for a cell phone. Participants must dress appropriately. Proper attire is a snug fitting shirt\, long pants\, sturdy close-toed shoes. Sandals\, flip-flops not allowed. Keep areas of exposed skin to a minimum. Insects will crawl in any openings within clothes. Wear insect repellent. Expect it to be buggy around the collecting sheet. All ages welcome but kids under 10 can have sensory issues with the bugs. \nShare this:\n				Share on Facebook (Opens in new window)\n				Facebook\n			\n				Share on X (Opens in new window)\n				X\n			\n				Share on Tumblr (Opens in new window)\n				Tumblr\n			\n				Share on Reddit (Opens in new window)\n				Reddit\n			More\n				Email a link to a friend (Opens in new window)\n				Email\n			\n				Print (Opens in new window)\n				Print\n			Like this:Like Loading...
URL:https://nativeamericanmuseum.org/event/moth-night-at-the-museum-2/
LOCATION:Frisco Native American Museum\, 53536 Nc Hwy 12\, Frisco\, NC\, 27936\, United States
CATEGORIES:Museum Day Events
ATTACH;FMTTYPE=image/jpeg:https://nativeamericanmuseum.org/wp-content/uploads/2026/01/MothNight-2026-01.jpg
ORGANIZER;CN="Backyard Butterflies":MAILTO:hello@backyardbutterflies.org
END:VEVENT
BEGIN:VEVENT
DTSTART;TZID=America/New_York:20260715T140000
DTEND;TZID=America/New_York:20260715T150000
DTSTAMP:20260423T055335
CREATED:20260109T202003Z
LAST-MODIFIED:20260116T200501Z
UID:8752-1784124000-1784127600@nativeamericanmuseum.org
SUMMARY:Dancing & Drumming
DESCRIPTION:Celebrate the 40th Anniversary of the Frisco Native American Museum by…..\njoining two incredible volunteers that have served as head dancers at Pow Wows; Thunder and E Nah Dah from Eastern Band Cherokee of North Carolina as they demonstrate Native American dances and explain their significance. \nDrums and dance have always been\, and continue to be\, an important part of native culture: Drums are called the Heartbeat of the Earth to guide the music. Dance is a way in which we express our culture\, honor our ancestors\, celebrate life\, and even keep our stories alive. \nParticipants will have the opportunity to join in some social dances so they can share in the experience and joy of this beautiful tradition. \nAll ages welcome\, no experience necessary. \nEvent is FREE with museum admission \nShare this:\n				Share on Facebook (Opens in new window)\n				Facebook\n			\n				Share on X (Opens in new window)\n				X\n			\n				Share on Tumblr (Opens in new window)\n				Tumblr\n			\n				Share on Reddit (Opens in new window)\n				Reddit\n			More\n				Email a link to a friend (Opens in new window)\n				Email\n			\n				Print (Opens in new window)\n				Print\n			Like this:Like Loading...
URL:https://nativeamericanmuseum.org/event/8752/
LOCATION:Frisco Native American Museum\, 53536 Nc Hwy 12\, Frisco\, NC\, 27936\, United States
CATEGORIES:Guest Speakers
ATTACH;FMTTYPE=image/jpeg:https://nativeamericanmuseum.org/wp-content/uploads/2026/01/Cranfords-2026-01.jpg
END:VEVENT
BEGIN:VEVENT
DTSTART;TZID=America/New_York:20260825T140000
DTEND;TZID=America/New_York:20260825T150000
DTSTAMP:20260423T055335
CREATED:20260109T204804Z
LAST-MODIFIED:20260116T200642Z
UID:8758-1787666400-1787670000@nativeamericanmuseum.org
SUMMARY:Survival Techniques of the Eastern Woodlands
DESCRIPTION:Celebrate the 40th Anniversary of the Frisco Native American Museum by…..\njoining Shane Rader of the Houma\, Jack Mcclung of the Potomac\, along with Bryce Park and Francesca Land for an exciting afternoon of demonstrations! \nWhile we’re often taught about the tools & weaponry of indigenous people\, how did they actually make it and how effective were they? Were they accurate or did they struggle to hunt? Did they have protection like shields as well as weapons? Did they have specific tools for making jewelry? \nJoin this amazing group for the second year in a row as they answers all these questions and more about the Eastern Woodland people. Past event photos can be seen HERE. From archery to the lesser known atlatls\, and from knives to spears\, get to see how they were made as well as explanations of their use and what kind of animals would be hunted. \nYou’ve heard of alchemists wanting to turn lead to gold\, but what about shells into pottery and stone? Making beads from shells\, though we often think of them as simply decorative\, were important for survival as they served as trade goods! You definitely don’t want to miss learning how natives went from a whole shell to a beautiful bead! \nEvent is FREE with museum admission \nShare this:\n				Share on Facebook (Opens in new window)\n				Facebook\n			\n				Share on X (Opens in new window)\n				X\n			\n				Share on Tumblr (Opens in new window)\n				Tumblr\n			\n				Share on Reddit (Opens in new window)\n				Reddit\n			More\n				Email a link to a friend (Opens in new window)\n				Email\n			\n				Print (Opens in new window)\n				Print\n			Like this:Like Loading...
URL:https://nativeamericanmuseum.org/event/survival-techniques-of-the-eastern-woodlands/
LOCATION:Frisco Native American Museum\, 53536 Nc Hwy 12\, Frisco\, NC\, 27936\, United States
CATEGORIES:Guest Speakers
ATTACH;FMTTYPE=image/jpeg:https://nativeamericanmuseum.org/wp-content/uploads/2026/01/Shane-2026.jpg
END:VEVENT
BEGIN:VEVENT
DTSTART;TZID=America/New_York:20260923T140000
DTEND;TZID=America/New_York:20260923T150000
DTSTAMP:20260423T055335
CREATED:20260109T203219Z
LAST-MODIFIED:20260116T212946Z
UID:8756-1790172000-1790175600@nativeamericanmuseum.org
SUMMARY:Abenaki Story Telling & Music
DESCRIPTION:Celebrate the 40th Anniversary of the Frisco Native American Museum by…..\njoining Abenaki Elder Francine Jones* for the second year in a row! A gifted storyteller and musician\, Francine will be sharing with everyone traditional teaching stories and music that promises to be a treat for all ages. \nFor example\, did you know there’s a song to ward off mosquitoes? Get a chance to learn it and sing along! \nDid you ever wonder why dogs are so loyal and called “Man’s best friend” ? Hear the exciting story for yourself! \nChildren attending will get to participate in a Feather Dance! \nFrancine will also have a table of traditional items with adults to do a Q&A and children to explore. Hear about how the Abenaki people used certain furs or guess what use an unfamiliar item you see has. \nEvent is FREE with museum admission \n*Francine is an advocate for maintaining and protecting the Abenaki language and culture\, member of the Vermont Abenaki Artists Association\, and on the Board for the Abenaki Arts & Education Center. \nShare this:\n				Share on Facebook (Opens in new window)\n				Facebook\n			\n				Share on X (Opens in new window)\n				X\n			\n				Share on Tumblr (Opens in new window)\n				Tumblr\n			\n				Share on Reddit (Opens in new window)\n				Reddit\n			More\n				Email a link to a friend (Opens in new window)\n				Email\n			\n				Print (Opens in new window)\n				Print\n			Like this:Like Loading...
URL:https://nativeamericanmuseum.org/event/abenaki-story-telling-music/
LOCATION:Frisco Native American Museum\, 53536 Nc Hwy 12\, Frisco\, NC\, 27936\, United States
CATEGORIES:Guest Speakers
ATTACH;FMTTYPE=image/jpeg:https://nativeamericanmuseum.org/wp-content/uploads/2026/01/Francine-2026-01.jpg
END:VEVENT
END:VCALENDAR