BEGIN:VCALENDAR
VERSION:2.0
PRODID:-//Frisco Native American Museum - ECPv6.15.20//NONSGML v1.0//EN
CALSCALE:GREGORIAN
METHOD:PUBLISH
X-WR-CALNAME:Frisco Native American Museum
X-ORIGINAL-URL:https://nativeamericanmuseum.org
X-WR-CALDESC:Events for Frisco Native American Museum
REFRESH-INTERVAL;VALUE=DURATION:PT1H
X-Robots-Tag:noindex
X-PUBLISHED-TTL:PT1H
BEGIN:VTIMEZONE
TZID:America/New_York
BEGIN:DAYLIGHT
TZOFFSETFROM:-0500
TZOFFSETTO:-0400
TZNAME:EDT
DTSTART:20240310T070000
END:DAYLIGHT
BEGIN:STANDARD
TZOFFSETFROM:-0400
TZOFFSETTO:-0500
TZNAME:EST
DTSTART:20241103T060000
END:STANDARD
BEGIN:DAYLIGHT
TZOFFSETFROM:-0500
TZOFFSETTO:-0400
TZNAME:EDT
DTSTART:20250309T070000
END:DAYLIGHT
BEGIN:STANDARD
TZOFFSETFROM:-0400
TZOFFSETTO:-0500
TZNAME:EST
DTSTART:20251102T060000
END:STANDARD
BEGIN:DAYLIGHT
TZOFFSETFROM:-0500
TZOFFSETTO:-0400
TZNAME:EDT
DTSTART:20260308T070000
END:DAYLIGHT
BEGIN:STANDARD
TZOFFSETFROM:-0400
TZOFFSETTO:-0500
TZNAME:EST
DTSTART:20261101T060000
END:STANDARD
END:VTIMEZONE
BEGIN:VEVENT
DTSTART;TZID=America/New_York:20251031T110000
DTEND;TZID=America/New_York:20251031T140000
DTSTAMP:20260423T185128
CREATED:20251011T185125Z
LAST-MODIFIED:20251011T185531Z
UID:8719-1761908400-1761919200@nativeamericanmuseum.org
SUMMARY:Spooky Storytelling at the Museum!
DESCRIPTION:Late October and early November is the time of year when we’ve got a chill in the air and the ocean can get an ever so slightly menacing feeling as the waves turn choppy…..the perfect time of year for listening to some spooky stories! Come and hear a long-time friend to the museum\, Master Storyteller Crowfeather\, share thrilling and chilling tales that are suited for all ages. \nAn eerie ghost story from the Hitchiti people in Western Georgia. Tales of a giant from the Seneca people in New York. Even an Abenaki legend of a water monster! Don’t worry…we’ll leave the lights on for you. \nIf you’ve attended any of our past Powwow’s you may have had the pleasure of interacting with Crowfeather before. Dynamic and engaging\, she’s been a treat for visitors of all ages every event. Free with museum admission\, the storytelling will be taking place Friday October the 31st and Sunday November 2nd. We will also be offering two opportunities with a morning session starting at 11AM and an afternoon session starting at 2PM. \nRSVP is not required\, but is encouraged. \nShare this:\n				Share on Facebook (Opens in new window)\n				Facebook\n			\n				Share on X (Opens in new window)\n				X\n			\n				Share on Tumblr (Opens in new window)\n				Tumblr\n			\n				Share on Reddit (Opens in new window)\n				Reddit\n			More\n				Email a link to a friend (Opens in new window)\n				Email\n			\n				Print (Opens in new window)\n				Print\n			Like this:Like Loading...
URL:https://nativeamericanmuseum.org/event/spooky-storytelling-at-the-museum/
LOCATION:Frisco Native American Museum\, 53536 Nc Hwy 12\, Frisco\, NC\, 27936\, United States
CATEGORIES:Guest Speakers
ATTACH;FMTTYPE=image/jpeg:https://nativeamericanmuseum.org/wp-content/uploads/2025/10/2025Halloween-digital-banner-01.jpg
END:VEVENT
END:VCALENDAR